BEGIN:VCALENDAR
VERSION:2.0
PRODID:-//Bjørns Trafikkskole - ECPv6.15.17.1//NONSGML v1.0//EN
CALSCALE:GREGORIAN
METHOD:PUBLISH
X-WR-CALNAME:Bjørns Trafikkskole
X-ORIGINAL-URL:https://bjornstrafikkskole.no
X-WR-CALDESC:Arrangement for Bjørns Trafikkskole
REFRESH-INTERVAL;VALUE=DURATION:PT1H
X-Robots-Tag:noindex
X-PUBLISHED-TTL:PT1H
BEGIN:VTIMEZONE
TZID:Europe/Oslo
BEGIN:DAYLIGHT
TZOFFSETFROM:+0100
TZOFFSETTO:+0200
TZNAME:CEST
DTSTART:20250330T010000
END:DAYLIGHT
BEGIN:STANDARD
TZOFFSETFROM:+0200
TZOFFSETTO:+0100
TZNAME:CET
DTSTART:20251026T010000
END:STANDARD
BEGIN:DAYLIGHT
TZOFFSETFROM:+0100
TZOFFSETTO:+0200
TZNAME:CEST
DTSTART:20260329T010000
END:DAYLIGHT
BEGIN:STANDARD
TZOFFSETFROM:+0200
TZOFFSETTO:+0100
TZNAME:CET
DTSTART:20261025T010000
END:STANDARD
BEGIN:DAYLIGHT
TZOFFSETFROM:+0100
TZOFFSETTO:+0200
TZNAME:CEST
DTSTART:20270328T010000
END:DAYLIGHT
BEGIN:STANDARD
TZOFFSETFROM:+0200
TZOFFSETTO:+0100
TZNAME:CET
DTSTART:20271031T010000
END:STANDARD
END:VTIMEZONE
BEGIN:VEVENT
DTSTART;TZID=Europe/Oslo:20260511T150000
DTEND;TZID=Europe/Oslo:20260511T163000
DTSTAMP:20260422T103829
CREATED:20260323T150851Z
LAST-MODIFIED:20260413T114354Z
UID:4257-1778511600-1778517000@bjornstrafikkskole.no
SUMMARY:Lastsikringskurs mai-26
DESCRIPTION:Dette er et kurs som må gjennomføres for klassene T\, B96 og BE.\nHar du gyldig klasse C1 eller har kjørt opp for traktor etter 2005\, trenger du ikke dette kurset for klassen BE.
URL:https://bjornstrafikkskole.no/pamelding/lastsikringskurs-april-26/
LOCATION:Bjørns Trafikkskole Verdal\, Nordgata 28\, Verdal\, Trøndelag\, 7650\, Norge
ATTACH;FMTTYPE=image/jpeg:https://bjornstrafikkskole.no/wp-content/uploads/2022/09/innhold-henger-2022.jpg
END:VEVENT
BEGIN:VEVENT
DTSTART;TZID=Europe/Oslo:20260601T141500
DTEND;TZID=Europe/Oslo:20260604T171500
DTSTAMP:20260422T103829
CREATED:20260413T114748Z
LAST-MODIFIED:20260420T135356Z
UID:4260-1780323300-1780593300@bjornstrafikkskole.no
SUMMARY:Trafikalt grunnkurs Inderøy juni-26
DESCRIPTION:Førstehjelp og mørkekjøringsdemo er inkl i prisen. Mørkekjøringsdemo kaller vi inn til senere.
URL:https://bjornstrafikkskole.no/pamelding/trafikalt-grunnkurs-inderoy-juni-26/
LOCATION:Bjørns Trafikkskole Inderøy\, Vennalivegen 2\, Inderøy\, Trøndelag\, 7670\, Norge
ATTACH;FMTTYPE=image/jpeg:https://bjornstrafikkskole.no/wp-content/uploads/2022/09/trafikalt-grunnkurs-1.jpg
END:VEVENT
BEGIN:VEVENT
DTSTART;TZID=Europe/Oslo:20260608T160000
DTEND;TZID=Europe/Oslo:20260611T190000
DTSTAMP:20260422T103829
CREATED:20260119T135159Z
LAST-MODIFIED:20260420T135331Z
UID:4245-1780934400-1781204400@bjornstrafikkskole.no
SUMMARY:Trafikalt grunnkurs Verdal juni-26
DESCRIPTION:Førstehjelp og mørkekjøringsdemo er inkl i prisen. Mørkekjøringsdemo kaller vi inn til senere.
URL:https://bjornstrafikkskole.no/pamelding/trafikalt-grunnkurs-verdal-april-26/
LOCATION:Bjørns Trafikkskole Verdal\, Nordgata 28\, Verdal\, Trøndelag\, 7650\, Norge
ATTACH;FMTTYPE=image/jpeg:https://bjornstrafikkskole.no/wp-content/uploads/2022/09/trafikalt-grunnkurs.jpg
END:VEVENT
BEGIN:VEVENT
DTSTART;TZID=Europe/Oslo:20260706T141500
DTEND;TZID=Europe/Oslo:20260709T171500
DTSTAMP:20260422T103829
CREATED:20260414T113538Z
LAST-MODIFIED:20260420T135307Z
UID:4263-1783347300-1783617300@bjornstrafikkskole.no
SUMMARY:Trafikalt grunnkurs Inderøy juli-26
DESCRIPTION:Førstehjelp og mørkekjøringsdemo er inkl i prisen. Mørkekjøringsdemo kaller vi inn til senere.
URL:https://bjornstrafikkskole.no/pamelding/trafikalt-grunnkurs-inderoy-juli-26-2/
LOCATION:Bjørns Trafikkskole Inderøy\, Vennalivegen 2\, Inderøy\, Trøndelag\, 7670\, Norge
ATTACH;FMTTYPE=image/jpeg:https://bjornstrafikkskole.no/wp-content/uploads/2022/09/trafikalt-grunnkurs-1.jpg
END:VEVENT
BEGIN:VEVENT
DTSTART;TZID=Europe/Oslo:20260713T140000
DTEND;TZID=Europe/Oslo:20260716T171500
DTSTAMP:20260422T103829
CREATED:20260413T114926Z
LAST-MODIFIED:20260420T135243Z
UID:4261-1783951200-1784222100@bjornstrafikkskole.no
SUMMARY:Trafikalt grunnkurs Verdal juli-26
DESCRIPTION:Førstehjelp og mørkekjøringsdemo er inkl i prisen. Mørkekjøringsdemo kaller vi inn til senere.
URL:https://bjornstrafikkskole.no/pamelding/trafikalt-grunnkurs-verdal-juli-26/
LOCATION:Bjørns Trafikkskole Verdal\, Nordgata 28\, Verdal\, Trøndelag\, 7650\, Norge
ATTACH;FMTTYPE=image/jpeg:https://bjornstrafikkskole.no/wp-content/uploads/2022/09/trafikalt-grunnkurs-1.jpg
END:VEVENT
END:VCALENDAR